Package: DonaPLLP2013 Version: 1.45.0 Command: /home/biocbuild/bbs-3.21-bioc/R/bin/R CMD INSTALL DonaPLLP2013 StartedAt: 2025-02-06 10:57:43 -0500 (Thu, 06 Feb 2025) EndedAt: 2025-02-06 10:57:46 -0500 (Thu, 06 Feb 2025) EllapsedTime: 3.2 seconds RetCode: 0 Status: OK