Package: DuoClustering2018 Version: 1.25.0 Command: /home/biocbuild/bbs-3.21-bioc/R/bin/R CMD build --keep-empty-dirs --no-resave-data DuoClustering2018 StartedAt: 2025-02-06 11:15:28 -0500 (Thu, 06 Feb 2025) EndedAt: 2025-02-06 11:17:07 -0500 (Thu, 06 Feb 2025) EllapsedTime: 99.2 seconds RetCode: 0 Status: OK PackageFile: DuoClustering2018_1.25.0.tar.gz PackageFileSize: 2.21 MiB