Package: ELMER.data Version: 2.31.0 Command: /home/biocbuild/bbs-3.21-bioc/R/bin/R CMD build --keep-empty-dirs --no-resave-data ELMER.data StartedAt: 2025-02-06 11:15:43 -0500 (Thu, 06 Feb 2025) EndedAt: 2025-02-06 11:17:37 -0500 (Thu, 06 Feb 2025) EllapsedTime: 113.3 seconds RetCode: 0 Status: OK PackageFile: ELMER.data_2.31.0.tar.gz PackageFileSize: 293.4 MiB