Package: ELMER.data Version: 2.31.0 Command: /home/biocbuild/bbs-3.21-bioc/R/bin/R CMD INSTALL ELMER.data StartedAt: 2025-02-06 10:57:54 -0500 (Thu, 06 Feb 2025) EndedAt: 2025-02-06 10:58:03 -0500 (Thu, 06 Feb 2025) EllapsedTime: 8.8 seconds RetCode: 0 Status: OK