Package: FIs Version: 1.35.0 Maintainer: Herbert Braselmann , Martin Selmansberger MaintainerEmail: martin.selmansberger at helmholtz-muenchen.de git_url: https://git.bioconductor.org/packages/FIs git_branch: devel git_last_commit: 27330f4 git_last_commit_date: 2024-10-29 09:42:42 -0500 (Tue, 29 Oct 2024)