Package: FieldEffectCrc Version: 1.17.0 Maintainer: Christopher Dampier MaintainerEmail: chd5n at virginia.edu git_url: https://git.bioconductor.org/packages/FieldEffectCrc git_branch: devel git_last_commit: c0c5b3d git_last_commit_date: 2024-10-29 09:51:18 -0500 (Tue, 29 Oct 2024)