Package: FieldEffectCrc Version: 1.17.0 Command: /home/biocbuild/bbs-3.21-bioc/R/bin/R CMD build --keep-empty-dirs --no-resave-data FieldEffectCrc StartedAt: 2025-02-06 11:16:49 -0500 (Thu, 06 Feb 2025) EndedAt: 2025-02-06 11:21:26 -0500 (Thu, 06 Feb 2025) EllapsedTime: 276.8 seconds RetCode: 0 Status: OK PackageFile: FieldEffectCrc_1.17.0.tar.gz PackageFileSize: 239.6 KiB