Package: FieldEffectCrc Version: 1.17.0 Command: /home/biocbuild/bbs-3.21-bioc/R/bin/R CMD check --install=check:FieldEffectCrc.install-out.txt --library=/home/biocbuild/bbs-3.21-bioc/R/site-library --timings FieldEffectCrc_1.17.0.tar.gz StartedAt: 2025-02-06 12:03:48 -0500 (Thu, 06 Feb 2025) EndedAt: 2025-02-06 12:10:51 -0500 (Thu, 06 Feb 2025) EllapsedTime: 422.6 seconds RetCode: 0 Status: OK CheckDir: FieldEffectCrc.Rcheck Warnings: 0