Package: FieldEffectCrc Version: 1.17.0 Command: /home/biocbuild/bbs-3.21-bioc/R/bin/R CMD INSTALL FieldEffectCrc StartedAt: 2025-02-06 11:00:02 -0500 (Thu, 06 Feb 2025) EndedAt: 2025-02-06 11:00:29 -0500 (Thu, 06 Feb 2025) EllapsedTime: 26.7 seconds RetCode: 0 Status: OK