Package: Fletcher2013a Version: 1.43.0 Command: /home/biocbuild/bbs-3.21-bioc/R/bin/R CMD build --keep-empty-dirs --no-resave-data Fletcher2013a StartedAt: 2025-02-13 11:17:18 -0500 (Thu, 13 Feb 2025) EndedAt: 2025-02-13 11:17:35 -0500 (Thu, 13 Feb 2025) EllapsedTime: 16.6 seconds RetCode: 0 Status: OK PackageFile: Fletcher2013a_1.43.0.tar.gz PackageFileSize: 73.39 MiB