Package: Fletcher2013b Version: 1.43.0 Command: /home/biocbuild/bbs-3.21-bioc/R/bin/R CMD INSTALL Fletcher2013b StartedAt: 2025-02-06 11:03:48 -0500 (Thu, 06 Feb 2025) EndedAt: 2025-02-06 11:04:13 -0500 (Thu, 06 Feb 2025) EllapsedTime: 25.8 seconds RetCode: 0 Status: OK