Package: FlowSorted.Blood.EPIC Version: 2.11.0 Command: /home/biocbuild/bbs-3.21-bioc/R/bin/R CMD build --keep-empty-dirs --no-resave-data FlowSorted.Blood.EPIC StartedAt: 2025-02-06 11:17:24 -0500 (Thu, 06 Feb 2025) EndedAt: 2025-02-06 11:23:16 -0500 (Thu, 06 Feb 2025) EllapsedTime: 352.5 seconds RetCode: 0 Status: OK PackageFile: FlowSorted.Blood.EPIC_2.11.0.tar.gz PackageFileSize: 96.21 KiB