Package: GIGSEAdata Version: 1.25.0 Command: /home/biocbuild/bbs-3.21-bioc/R/bin/R CMD build --keep-empty-dirs --no-resave-data GIGSEAdata StartedAt: 2025-02-06 11:19:38 -0500 (Thu, 06 Feb 2025) EndedAt: 2025-02-06 11:19:46 -0500 (Thu, 06 Feb 2025) EllapsedTime: 8.3 seconds RetCode: 0 Status: OK PackageFile: GIGSEAdata_1.25.0.tar.gz PackageFileSize: 6.187 MiB