Package: GIGSEAdata Version: 1.25.0 Command: /home/biocbuild/bbs-3.21-bioc/R/bin/R CMD check --install=check:GIGSEAdata.install-out.txt --library=/home/biocbuild/bbs-3.21-bioc/R/site-library --timings GIGSEAdata_1.25.0.tar.gz StartedAt: 2025-02-06 12:08:18 -0500 (Thu, 06 Feb 2025) EndedAt: 2025-02-06 12:08:37 -0500 (Thu, 06 Feb 2025) EllapsedTime: 18.9 seconds RetCode: 0 Status: WARNINGS CheckDir: GIGSEAdata.Rcheck Warnings: 1