Package: GIGSEAdata Version: 1.25.0 Command: /home/biocbuild/bbs-3.21-bioc/R/bin/R CMD INSTALL GIGSEAdata StartedAt: 2025-02-13 10:55:25 -0500 (Thu, 13 Feb 2025) EndedAt: 2025-02-13 10:55:28 -0500 (Thu, 13 Feb 2025) EllapsedTime: 3.3 seconds RetCode: 0 Status: OK