Package: GSBenchMark Version: 1.27.0 Command: /home/biocbuild/bbs-3.21-bioc/R/bin/R CMD check --install=check:GSBenchMark.install-out.txt --library=/home/biocbuild/bbs-3.21-bioc/R/site-library --timings GSBenchMark_1.27.0.tar.gz StartedAt: 2025-02-06 12:08:23 -0500 (Thu, 06 Feb 2025) EndedAt: 2025-02-06 12:08:59 -0500 (Thu, 06 Feb 2025) EllapsedTime: 35.8 seconds RetCode: 0 Status: OK CheckDir: GSBenchMark.Rcheck Warnings: 0