Package: GSBenchMark Version: 1.27.0 Command: /home/biocbuild/bbs-3.21-bioc/R/bin/R CMD INSTALL GSBenchMark StartedAt: 2025-02-04 10:55:44 -0500 (Tue, 04 Feb 2025) EndedAt: 2025-02-04 10:55:46 -0500 (Tue, 04 Feb 2025) EllapsedTime: 2.2 seconds RetCode: 0 Status: OK