Package: GSE13015 Version: 1.15.0 Command: /home/biocbuild/bbs-3.21-bioc/R/bin/R CMD build --keep-empty-dirs --no-resave-data GSE13015 StartedAt: 2025-02-13 11:20:08 -0500 (Thu, 13 Feb 2025) EndedAt: 2025-02-13 11:20:40 -0500 (Thu, 13 Feb 2025) EllapsedTime: 32.0 seconds RetCode: 0 Status: OK PackageFile: GSE13015_1.15.0.tar.gz PackageFileSize: 218.5 KiB