Package: GSE13015 Version: 1.15.0 Command: /home/biocbuild/bbs-3.21-bioc/R/bin/R CMD INSTALL GSE13015 StartedAt: 2025-02-13 10:58:41 -0500 (Thu, 13 Feb 2025) EndedAt: 2025-02-13 10:58:56 -0500 (Thu, 13 Feb 2025) EllapsedTime: 15.2 seconds RetCode: 0 Status: OK