Package: GSVAdata Version: 1.43.0 Command: /home/biocbuild/bbs-3.21-bioc/R/bin/R CMD check --install=check:GSVAdata.install-out.txt --library=/home/biocbuild/bbs-3.21-bioc/R/site-library --timings GSVAdata_1.43.0.tar.gz StartedAt: 2025-02-06 12:08:43 -0500 (Thu, 06 Feb 2025) EndedAt: 2025-02-06 12:10:13 -0500 (Thu, 06 Feb 2025) EllapsedTime: 90.1 seconds RetCode: 0 Status: OK CheckDir: GSVAdata.Rcheck Warnings: 0