Package: GenomicDistributionsData Version: 1.15.0 Command: /home/biocbuild/bbs-3.21-bioc/R/bin/R CMD build --keep-empty-dirs --no-resave-data GenomicDistributionsData StartedAt: 2025-02-06 11:19:25 -0500 (Thu, 06 Feb 2025) EndedAt: 2025-02-06 11:20:22 -0500 (Thu, 06 Feb 2025) EllapsedTime: 57.1 seconds RetCode: 0 Status: OK PackageFile: GenomicDistributionsData_1.15.0.tar.gz PackageFileSize: 228.7 KiB