Package: GeuvadisTranscriptExpr Version: 1.35.0 Command: /home/biocbuild/bbs-3.21-bioc/R/bin/R CMD build --keep-empty-dirs --no-resave-data GeuvadisTranscriptExpr StartedAt: 2025-02-04 11:19:34 -0500 (Tue, 04 Feb 2025) EndedAt: 2025-02-04 11:20:06 -0500 (Tue, 04 Feb 2025) EllapsedTime: 31.9 seconds RetCode: 0 Status: OK PackageFile: GeuvadisTranscriptExpr_1.35.0.tar.gz PackageFileSize: 7.203 MiB