Package: GeuvadisTranscriptExpr Version: 1.35.0 Command: /home/biocbuild/bbs-3.21-bioc/R/bin/R CMD check --install=check:GeuvadisTranscriptExpr.install-out.txt --library=/home/biocbuild/bbs-3.21-bioc/R/site-library --timings GeuvadisTranscriptExpr_1.35.0.tar.gz StartedAt: 2025-02-04 12:08:24 -0500 (Tue, 04 Feb 2025) EndedAt: 2025-02-04 12:09:32 -0500 (Tue, 04 Feb 2025) EllapsedTime: 68.1 seconds RetCode: 0 Status: OK CheckDir: GeuvadisTranscriptExpr.Rcheck Warnings: 0