Package: GeuvadisTranscriptExpr Version: 1.35.0 Command: /home/biocbuild/bbs-3.21-bioc/R/bin/R CMD INSTALL GeuvadisTranscriptExpr StartedAt: 2025-02-06 10:55:54 -0500 (Thu, 06 Feb 2025) EndedAt: 2025-02-06 10:55:56 -0500 (Thu, 06 Feb 2025) EllapsedTime: 2.0 seconds RetCode: 0 Status: OK