Package: HCAData Version: 1.23.1 Command: /home/biocbuild/bbs-3.21-bioc/R/bin/R CMD INSTALL HCAData StartedAt: 2025-02-06 11:02:24 -0500 (Thu, 06 Feb 2025) EndedAt: 2025-02-06 11:02:54 -0500 (Thu, 06 Feb 2025) EllapsedTime: 30.0 seconds RetCode: 0 Status: OK