Package: HCATonsilData Version: 1.5.0 Command: /home/biocbuild/bbs-3.21-bioc/R/bin/R CMD build --keep-empty-dirs --no-resave-data HCATonsilData StartedAt: 2025-02-06 11:21:51 -0500 (Thu, 06 Feb 2025) EndedAt: 2025-02-06 11:23:05 -0500 (Thu, 06 Feb 2025) EllapsedTime: 74.5 seconds RetCode: 0 Status: OK PackageFile: HCATonsilData_1.5.0.tar.gz PackageFileSize: 6.268 MiB