Package: HCATonsilData Version: 1.5.0 Command: /home/biocbuild/bbs-3.21-bioc/R/bin/R CMD check --install=check:HCATonsilData.install-out.txt --library=/home/biocbuild/bbs-3.21-bioc/R/site-library --timings HCATonsilData_1.5.0.tar.gz StartedAt: 2025-02-13 12:11:17 -0500 (Thu, 13 Feb 2025) EndedAt: 2025-02-13 12:16:22 -0500 (Thu, 13 Feb 2025) EllapsedTime: 305.5 seconds RetCode: 0 Status: OK CheckDir: HCATonsilData.Rcheck Warnings: 0