Package: HCATonsilData Version: 1.5.0 Command: /home/biocbuild/bbs-3.21-bioc/R/bin/R CMD INSTALL HCATonsilData StartedAt: 2025-02-06 11:02:39 -0500 (Thu, 06 Feb 2025) EndedAt: 2025-02-06 11:03:11 -0500 (Thu, 06 Feb 2025) EllapsedTime: 31.7 seconds RetCode: 0 Status: OK