Package: HEEBOdata Version: 1.45.0 Command: /home/biocbuild/bbs-3.21-bioc/R/bin/R CMD INSTALL HEEBOdata StartedAt: 2025-02-13 10:55:14 -0500 (Thu, 13 Feb 2025) EndedAt: 2025-02-13 10:55:16 -0500 (Thu, 13 Feb 2025) EllapsedTime: 1.6 seconds RetCode: 0 Status: OK