Package: HMP16SData Version: 1.27.0 Command: /home/biocbuild/bbs-3.21-bioc/R/bin/R CMD build --keep-empty-dirs --no-resave-data HMP16SData StartedAt: 2025-02-06 11:24:04 -0500 (Thu, 06 Feb 2025) EndedAt: 2025-02-06 11:26:27 -0500 (Thu, 06 Feb 2025) EllapsedTime: 143.2 seconds RetCode: 0 Status: OK PackageFile: HMP16SData_1.27.0.tar.gz PackageFileSize: 16.35 MiB