Package: HMP2Data Version: 1.21.0 Command: /home/biocbuild/bbs-3.21-bioc/R/bin/R CMD build --keep-empty-dirs --no-resave-data HMP2Data StartedAt: 2025-02-06 11:24:05 -0500 (Thu, 06 Feb 2025) EndedAt: 2025-02-06 11:25:17 -0500 (Thu, 06 Feb 2025) EllapsedTime: 71.8 seconds RetCode: 0 Status: OK PackageFile: HMP2Data_1.21.0.tar.gz PackageFileSize: 5.146 MiB