Package: HMP2Data Version: 1.21.0 Command: /home/biocbuild/bbs-3.21-bioc/R/bin/R CMD check --install=check:HMP2Data.install-out.txt --library=/home/biocbuild/bbs-3.21-bioc/R/site-library --timings HMP2Data_1.21.0.tar.gz StartedAt: 2025-02-06 12:13:02 -0500 (Thu, 06 Feb 2025) EndedAt: 2025-02-06 12:17:57 -0500 (Thu, 06 Feb 2025) EllapsedTime: 294.9 seconds RetCode: 0 Status: OK CheckDir: HMP2Data.Rcheck Warnings: 0