Package: HMP2Data Version: 1.21.0 Command: /home/biocbuild/bbs-3.21-bioc/R/bin/R CMD INSTALL HMP2Data StartedAt: 2025-02-06 11:00:16 -0500 (Thu, 06 Feb 2025) EndedAt: 2025-02-06 11:00:53 -0500 (Thu, 06 Feb 2025) EllapsedTime: 36.8 seconds RetCode: 0 Status: OK