Package: HarmonizedTCGAData Version: 1.29.0 Maintainer: Tianle Ma MaintainerEmail: tianlema at buffalo.edu git_url: https://git.bioconductor.org/packages/HarmonizedTCGAData git_branch: devel git_last_commit: 25a5913 git_last_commit_date: 2024-10-29 09:47:10 -0500 (Tue, 29 Oct 2024)