Package: HarmonizedTCGAData Version: 1.29.0 Command: /home/biocbuild/bbs-3.21-bioc/R/bin/R CMD check --install=check:HarmonizedTCGAData.install-out.txt --library=/home/biocbuild/bbs-3.21-bioc/R/site-library --timings HarmonizedTCGAData_1.29.0.tar.gz StartedAt: 2025-02-06 12:09:49 -0500 (Thu, 06 Feb 2025) EndedAt: 2025-02-06 12:12:02 -0500 (Thu, 06 Feb 2025) EllapsedTime: 132.7 seconds RetCode: 0 Status: OK CheckDir: HarmonizedTCGAData.Rcheck Warnings: 0