Package: HarmonizedTCGAData Version: 1.29.0 Command: /home/biocbuild/bbs-3.21-bioc/R/bin/R CMD INSTALL HarmonizedTCGAData StartedAt: 2025-02-04 10:56:55 -0500 (Tue, 04 Feb 2025) EndedAt: 2025-02-04 10:57:09 -0500 (Tue, 04 Feb 2025) EllapsedTime: 13.5 seconds RetCode: 0 Status: OK