Package: HiBED Version: 1.5.0 Command: /home/biocbuild/bbs-3.21-bioc/R/bin/R CMD build --keep-empty-dirs --no-resave-data HiBED StartedAt: 2025-02-13 11:23:24 -0500 (Thu, 13 Feb 2025) EndedAt: 2025-02-13 11:24:36 -0500 (Thu, 13 Feb 2025) EllapsedTime: 72.3 seconds RetCode: 0 Status: OK PackageFile: HiBED_1.5.0.tar.gz PackageFileSize: 40.94 KiB