Package: HiBED Version: 1.5.0 Command: /home/biocbuild/bbs-3.21-bioc/R/bin/R CMD check --install=check:HiBED.install-out.txt --library=/home/biocbuild/bbs-3.21-bioc/R/site-library --timings HiBED_1.5.0.tar.gz StartedAt: 2025-02-06 12:11:35 -0500 (Thu, 06 Feb 2025) EndedAt: 2025-02-06 12:17:33 -0500 (Thu, 06 Feb 2025) EllapsedTime: 358.2 seconds RetCode: 0 Status: OK CheckDir: HiBED.Rcheck Warnings: 0