Package: HiCDataLymphoblast Version: 1.43.0 Command: /home/biocbuild/bbs-3.21-bioc/R/bin/R CMD build --keep-empty-dirs --no-resave-data HiCDataLymphoblast StartedAt: 2025-02-06 11:23:35 -0500 (Thu, 06 Feb 2025) EndedAt: 2025-02-06 11:24:07 -0500 (Thu, 06 Feb 2025) EllapsedTime: 31.6 seconds RetCode: 0 Status: OK PackageFile: HiCDataLymphoblast_1.43.0.tar.gz PackageFileSize: 16.52 MiB