Package: HiCDataLymphoblast Version: 1.43.0 Command: /home/biocbuild/bbs-3.21-bioc/R/bin/R CMD check --install=check:HiCDataLymphoblast.install-out.txt --library=/home/biocbuild/bbs-3.21-bioc/R/site-library --timings HiCDataLymphoblast_1.43.0.tar.gz StartedAt: 2025-02-06 12:11:48 -0500 (Thu, 06 Feb 2025) EndedAt: 2025-02-06 12:12:11 -0500 (Thu, 06 Feb 2025) EllapsedTime: 22.6 seconds RetCode: 0 Status: OK CheckDir: HiCDataLymphoblast.Rcheck Warnings: 0