Package: HiCDataLymphoblast Version: 1.43.0 Command: /home/biocbuild/bbs-3.21-bioc/R/bin/R CMD INSTALL HiCDataLymphoblast StartedAt: 2025-02-13 10:55:31 -0500 (Thu, 13 Feb 2025) EndedAt: 2025-02-13 10:55:33 -0500 (Thu, 13 Feb 2025) EllapsedTime: 1.5 seconds RetCode: 0 Status: OK