Package: JASPAR2014 Version: 1.43.0 Command: /home/biocbuild/bbs-3.21-bioc/R/bin/R CMD build --keep-empty-dirs --no-resave-data JASPAR2014 StartedAt: 2025-02-06 11:25:17 -0500 (Thu, 06 Feb 2025) EndedAt: 2025-02-06 11:25:24 -0500 (Thu, 06 Feb 2025) EllapsedTime: 6.3 seconds RetCode: 0 Status: OK PackageFile: JASPAR2014_1.43.0.tar.gz PackageFileSize: 42.89 MiB