Package: KOdata Version: 1.33.0 Command: /home/biocbuild/bbs-3.21-bioc/R/bin/R CMD build --keep-empty-dirs --no-resave-data KOdata StartedAt: 2025-02-06 11:25:53 -0500 (Thu, 06 Feb 2025) EndedAt: 2025-02-06 11:25:56 -0500 (Thu, 06 Feb 2025) EllapsedTime: 3.3 seconds RetCode: 0 Status: OK PackageFile: KOdata_1.33.0.tar.gz PackageFileSize: 31.77 MiB