Package: LiebermanAidenHiC2009 Version: 0.45.0 Command: /home/biocbuild/bbs-3.21-bioc/R/bin/R CMD build --keep-empty-dirs --no-resave-data LiebermanAidenHiC2009 StartedAt: 2025-02-06 11:26:00 -0500 (Thu, 06 Feb 2025) EndedAt: 2025-02-06 11:27:11 -0500 (Thu, 06 Feb 2025) EllapsedTime: 70.8 seconds RetCode: 0 Status: OK PackageFile: LiebermanAidenHiC2009_0.45.0.tar.gz PackageFileSize: 10.38 MiB