Package: LungCancerACvsSCCGEO Version: 1.43.0 Command: /home/biocbuild/bbs-3.21-bioc/R/bin/R CMD check --install=check:LungCancerACvsSCCGEO.install-out.txt --library=/home/biocbuild/bbs-3.21-bioc/R/site-library --timings LungCancerACvsSCCGEO_1.43.0.tar.gz StartedAt: 2025-02-06 12:19:13 -0500 (Thu, 06 Feb 2025) EndedAt: 2025-02-06 12:19:33 -0500 (Thu, 06 Feb 2025) EllapsedTime: 20.2 seconds RetCode: 0 Status: OK CheckDir: LungCancerACvsSCCGEO.Rcheck Warnings: 0