Package: LungCancerLines Version: 0.45.0 Command: /home/biocbuild/bbs-3.21-bioc/R/bin/R CMD build --keep-empty-dirs --no-resave-data LungCancerLines StartedAt: 2025-02-06 11:26:58 -0500 (Thu, 06 Feb 2025) EndedAt: 2025-02-06 11:27:00 -0500 (Thu, 06 Feb 2025) EllapsedTime: 1.3 seconds RetCode: 0 Status: OK PackageFile: LungCancerLines_0.45.0.tar.gz PackageFileSize: 1.608 MiB