Package: LungCancerLines Version: 0.45.0 Command: /home/biocbuild/bbs-3.21-bioc/R/bin/R CMD check --install=check:LungCancerLines.install-out.txt --library=/home/biocbuild/bbs-3.21-bioc/R/site-library --timings LungCancerLines_0.45.0.tar.gz StartedAt: 2025-02-06 12:19:13 -0500 (Thu, 06 Feb 2025) EndedAt: 2025-02-06 12:20:22 -0500 (Thu, 06 Feb 2025) EllapsedTime: 69.5 seconds RetCode: 0 Status: OK CheckDir: LungCancerLines.Rcheck Warnings: 0