Package: M3DExampleData Version: 1.33.0 Command: /home/biocbuild/bbs-3.21-bioc/R/bin/R CMD build --keep-empty-dirs --no-resave-data M3DExampleData StartedAt: 2025-02-06 11:27:00 -0500 (Thu, 06 Feb 2025) EndedAt: 2025-02-06 11:27:01 -0500 (Thu, 06 Feb 2025) EllapsedTime: 1.0 seconds RetCode: 0 Status: OK PackageFile: M3DExampleData_1.33.0.tar.gz PackageFileSize: 2.05 MiB