Package: MACSdata Version: 1.15.0 Command: /home/biocbuild/bbs-3.21-bioc/R/bin/R CMD check --install=check:MACSdata.install-out.txt --library=/home/biocbuild/bbs-3.21-bioc/R/site-library --timings MACSdata_1.15.0.tar.gz StartedAt: 2025-02-06 12:19:44 -0500 (Thu, 06 Feb 2025) EndedAt: 2025-02-06 12:19:55 -0500 (Thu, 06 Feb 2025) EllapsedTime: 11.9 seconds RetCode: 0 Status: OK CheckDir: MACSdata.Rcheck Warnings: 0