Package: MMDiffBamSubset Version: 1.43.0 Command: /home/biocbuild/bbs-3.21-bioc/R/bin/R CMD check --install=check:MMDiffBamSubset.install-out.txt --library=/home/biocbuild/bbs-3.21-bioc/R/site-library --timings MMDiffBamSubset_1.43.0.tar.gz StartedAt: 2025-02-04 12:25:06 -0500 (Tue, 04 Feb 2025) EndedAt: 2025-02-04 12:25:41 -0500 (Tue, 04 Feb 2025) EllapsedTime: 34.7 seconds RetCode: 0 Status: OK CheckDir: MMDiffBamSubset.Rcheck Warnings: 0